BEGIN:VCALENDAR
VERSION:2.0
PRODID:-//Alcohólicos Anónimos Colombia - ECPv6.15.20//NONSGML v1.0//EN
CALSCALE:GREGORIAN
METHOD:PUBLISH
X-WR-CALNAME:Alcohólicos Anónimos Colombia
X-ORIGINAL-URL:https://aacolombia.org
X-WR-CALDESC:Eventos para Alcohólicos Anónimos Colombia
REFRESH-INTERVAL;VALUE=DURATION:PT1H
X-Robots-Tag:noindex
X-PUBLISHED-TTL:PT1H
BEGIN:VTIMEZONE
TZID:America/Bogota
BEGIN:STANDARD
TZOFFSETFROM:-0500
TZOFFSETTO:-0500
TZNAME:-05
DTSTART:20250101T000000
END:STANDARD
END:VTIMEZONE
BEGIN:VEVENT
DTSTART;TZID=America/Bogota:20260517T090000
DTEND;TZID=America/Bogota:20260517T160000
DTSTAMP:20260421T042853
CREATED:20260412T001728Z
LAST-MODIFIED:20260412T001728Z
UID:22020-1779008400-1779033600@aacolombia.org
SUMMARY:10° FORO INTERDISTRITAL ÁREA 7 MEDELLÍN NORTE\, REGIÓN E\, TERRITORIO NORTE
DESCRIPTION:
URL:https://aacolombia.org/evento/10-foro-interdistrital-area-7-medellin-norte-region-e-territorio-norte/
LOCATION:Biblioteca Marco Fidel Suárez\, Calle 52A #51-00\, Bello\, Antioquia\, Colombia
CATEGORIES:De Área
ATTACH;FMTTYPE=image/jpeg:https://aacolombia.org/wp-content/uploads/2026/04/WhatsApp-Image-2026-04-06-at-7.05.03-PM.jpeg
END:VEVENT
END:VCALENDAR